BEGIN:VCALENDAR
VERSION:2.0
PRODID:-//PoliRetribua - ECPv6.15.20//NONSGML v1.0//EN
CALSCALE:GREGORIAN
METHOD:PUBLISH
X-WR-CALNAME:PoliRetribua
X-ORIGINAL-URL:https://poliretribua.org.br
X-WR-CALDESC:Eventos para PoliRetribua
REFRESH-INTERVAL;VALUE=DURATION:PT1H
X-Robots-Tag:noindex
X-PUBLISHED-TTL:PT1H
BEGIN:VTIMEZONE
TZID:America/Sao_Paulo
BEGIN:STANDARD
TZOFFSETFROM:-0300
TZOFFSETTO:-0300
TZNAME:-03
DTSTART:20220101T000000
END:STANDARD
END:VTIMEZONE
BEGIN:VEVENT
DTSTART;VALUE=DATE:20230407
DTEND;VALUE=DATE:20230408
DTSTAMP:20260422T074453
CREATED:20230218T231434Z
LAST-MODIFIED:20230327T175956Z
UID:2407-1680825600-1680911999@poliretribua.org.br
SUMMARY:Data final para assinatura do Termo de Compromisso e entrega a AEP do 1º ano
DESCRIPTION:
URL:https://poliretribua.org.br/event/data-final-para-assinatura-do-termo-de-compromisso-e-entrega-a-aep/
END:VEVENT
END:VCALENDAR