BEGIN:VCALENDAR
VERSION:2.0
PRODID:-//PoliRetribua - ECPv6.15.20//NONSGML v1.0//EN
CALSCALE:GREGORIAN
METHOD:PUBLISH
X-ORIGINAL-URL:https://poliretribua.org.br
X-WR-CALDESC:Eventos para PoliRetribua
REFRESH-INTERVAL;VALUE=DURATION:PT1H
X-Robots-Tag:noindex
X-PUBLISHED-TTL:PT1H
BEGIN:VTIMEZONE
TZID:America/Sao_Paulo
BEGIN:STANDARD
TZOFFSETFROM:-0300
TZOFFSETTO:-0300
TZNAME:-03
DTSTART:20220101T000000
END:STANDARD
END:VTIMEZONE
BEGIN:VEVENT
DTSTART;TZID=America/Sao_Paulo:20230417T120000
DTEND;TZID=America/Sao_Paulo:20230417T130000
DTSTAMP:20260420T101552
CREATED:20230219T202146Z
LAST-MODIFIED:20230331T222610Z
UID:2595-1681732800-1681736400@poliretribua.org.br
SUMMARY:Pertencer e Incluir - Prof. Dr. Alessandro de Oliveira Santos (Psicologia USP)
DESCRIPTION:
URL:https://poliretribua.org.br/event/palestra-sobre-pertencimento-psicologo-alexandro/
LOCATION:Poli USP
END:VEVENT
END:VCALENDAR