BEGIN:VCALENDAR
VERSION:2.0
PRODID:-//PoliRetribua - ECPv6.15.20//NONSGML v1.0//EN
CALSCALE:GREGORIAN
METHOD:PUBLISH
X-ORIGINAL-URL:https://poliretribua.org.br
X-WR-CALDESC:Eventos para PoliRetribua
REFRESH-INTERVAL;VALUE=DURATION:PT1H
X-Robots-Tag:noindex
X-PUBLISHED-TTL:PT1H
BEGIN:VTIMEZONE
TZID:America/Sao_Paulo
BEGIN:STANDARD
TZOFFSETFROM:-0300
TZOFFSETTO:-0300
TZNAME:-03
DTSTART:20220101T000000
END:STANDARD
END:VTIMEZONE
BEGIN:VEVENT
DTSTART;TZID=America/Sao_Paulo:20230427T190000
DTEND;TZID=America/Sao_Paulo:20230427T200000
DTSTAMP:20260424T072121
CREATED:20230313T223133Z
LAST-MODIFIED:20230419T145111Z
UID:2787-1682622000-1682625600@poliretribua.org.br
SUMMARY:Palestra de Saúde Mental - Profa Ms Adriana Fóz
DESCRIPTION:Neuropsicóloga. \n 
URL:https://poliretribua.org.br/event/palestra-de-saude-mental-profa-ms-adriana-foz/
ORGANIZER;CN="PoliRetribua":MAILTO:aep@politecnicos.org.br
END:VEVENT
END:VCALENDAR