BEGIN:VCALENDAR
VERSION:2.0
PRODID:-//PoliRetribua - ECPv6.15.20//NONSGML v1.0//EN
CALSCALE:GREGORIAN
METHOD:PUBLISH
X-WR-CALNAME:PoliRetribua
X-ORIGINAL-URL:https://poliretribua.org.br
X-WR-CALDESC:Eventos para PoliRetribua
REFRESH-INTERVAL;VALUE=DURATION:PT1H
X-Robots-Tag:noindex
X-PUBLISHED-TTL:PT1H
BEGIN:VTIMEZONE
TZID:America/Sao_Paulo
BEGIN:STANDARD
TZOFFSETFROM:-0300
TZOFFSETTO:-0300
TZNAME:-03
DTSTART:20220101T000000
END:STANDARD
END:VTIMEZONE
BEGIN:VEVENT
DTSTART;TZID=America/Sao_Paulo:20231020T153000
DTEND;TZID=America/Sao_Paulo:20231020T163000
DTSTAMP:20260422T093040
CREATED:20231020T183258Z
LAST-MODIFIED:20231020T183342Z
UID:4080-1697815800-1697819400@poliretribua.org.br
SUMMARY:Simulação de entrevista de emprego
DESCRIPTION:Na AEP com o mentor Newton Carlos Nikolaus
URL:https://poliretribua.org.br/event/simulacao-entrevista-de-emprego/
END:VEVENT
END:VCALENDAR