BEGIN:VCALENDAR
VERSION:2.0
PRODID:-//PoliRetribua - ECPv6.15.20//NONSGML v1.0//EN
CALSCALE:GREGORIAN
METHOD:PUBLISH
X-ORIGINAL-URL:https://poliretribua.org.br
X-WR-CALDESC:Eventos para PoliRetribua
REFRESH-INTERVAL;VALUE=DURATION:PT1H
X-Robots-Tag:noindex
X-PUBLISHED-TTL:PT1H
BEGIN:VTIMEZONE
TZID:America/Sao_Paulo
BEGIN:STANDARD
TZOFFSETFROM:-0300
TZOFFSETTO:-0300
TZNAME:-03
DTSTART:20220101T000000
END:STANDARD
END:VTIMEZONE
BEGIN:VEVENT
DTSTART;TZID=America/Sao_Paulo:20230504T114500
DTEND;TZID=America/Sao_Paulo:20230504T130000
DTSTAMP:20260420T085702
CREATED:20230314T165538Z
LAST-MODIFIED:20230502T101804Z
UID:2793-1683200700-1683205200@poliretribua.org.br
SUMMARY:Soft-skills (habilidades sócio emocionais) - Prof. Alexandre Cricci
DESCRIPTION:
URL:https://poliretribua.org.br/event/soft-skills-habilidades-socio-emocionais-prof-alexandre-cricci/
LOCATION:Poli USP
END:VEVENT
BEGIN:VEVENT
DTSTART;VALUE=DATE:20230515
DTEND;VALUE=DATE:20230516
DTSTAMP:20260420T085702
CREATED:20230219T012724Z
LAST-MODIFIED:20230301T205020Z
UID:2431-1684108800-1684195199@poliretribua.org.br
SUMMARY:Atribuição das bolsas do 1º ano
DESCRIPTION:A data é uma previsão. Depende da lista do SAS.
URL:https://poliretribua.org.br/event/atribuicao-as-bolsas-do-1o-ano/
END:VEVENT
BEGIN:VEVENT
DTSTART;VALUE=DATE:20230522
DTEND;VALUE=DATE:20230523
DTSTAMP:20260420T085702
CREATED:20230219T204915Z
LAST-MODIFIED:20230219T204915Z
UID:2601-1684713600-1684799999@poliretribua.org.br
SUMMARY:Última data para a assinatura do Termo de Compromisso 1º ano
DESCRIPTION:
URL:https://poliretribua.org.br/event/ultima-data-para-a-assinatura-do-termo-de-compromisso-1o-ano/
END:VEVENT
BEGIN:VEVENT
DTSTART;TZID=America/Sao_Paulo:20230522T114500
DTEND;TZID=America/Sao_Paulo:20230522T130000
DTSTAMP:20260420T085702
CREATED:20230218T232045Z
LAST-MODIFIED:20230511T124755Z
UID:2413-1684755900-1684760400@poliretribua.org.br
SUMMARY:Palestra sobre educação financeira pelo Mentor Gabriel Migliori
DESCRIPTION:
URL:https://poliretribua.org.br/event/palestra-sobre-educacao-financeira-pelo-mentor-gabriel-migliori/
LOCATION:AEP – POLI
ORGANIZER;CN="PoliRetribua":MAILTO:aep@politecnicos.org.br
END:VEVENT
BEGIN:VEVENT
DTSTART;TZID=America/Sao_Paulo:20230524T193000
DTEND;TZID=America/Sao_Paulo:20230524T203000
DTSTAMP:20260420T085702
CREATED:20230323T020026Z
LAST-MODIFIED:20230511T123938Z
UID:2811-1684956600-1684960200@poliretribua.org.br
SUMMARY:Expectativas na Engenharia no Brasil - Promon Engenharia
DESCRIPTION:Palestra ministrada pelo Gerente Engº Rodrigo Cruz – Egresso da Poli no formato virtual \n 
URL:https://poliretribua.org.br/event/expectativas-na-engenharia-no-brasil-promon-engenharia/
END:VEVENT
BEGIN:VEVENT
DTSTART;VALUE=DATE:20230531
DTEND;VALUE=DATE:20230601
DTSTAMP:20260420T085702
CREATED:20230220T163640Z
LAST-MODIFIED:20230220T163640Z
UID:2639-1685491200-1685577599@poliretribua.org.br
SUMMARY:Início do pagamento das Bolsas - 1º e 2º anos
DESCRIPTION:
URL:https://poliretribua.org.br/event/inicio-do-pagamento-das-bolsas-1o-e-2o-anos/
END:VEVENT
BEGIN:VEVENT
DTSTART;TZID=America/Sao_Paulo:20230601T193000
DTEND;TZID=America/Sao_Paulo:20230601T203000
DTSTAMP:20260420T085702
CREATED:20230323T143545Z
LAST-MODIFIED:20230502T102049Z
UID:2821-1685647800-1685651400@poliretribua.org.br
SUMMARY:Conexão e Inspiração - McKinsey
DESCRIPTION:
URL:https://poliretribua.org.br/event/conexao-e-inspiracao-mckinsey/
LOCATION:Remoto
END:VEVENT
BEGIN:VEVENT
DTSTART;TZID=America/Sao_Paulo:20230613T193000
DTEND;TZID=America/Sao_Paulo:20230613T203000
DTSTAMP:20260420T085702
CREATED:20230323T221342Z
LAST-MODIFIED:20230502T102016Z
UID:2824-1686684600-1686688200@poliretribua.org.br
SUMMARY:Gestão de Projeto - PMI Prof Ricardo Abbud
DESCRIPTION:
URL:https://poliretribua.org.br/event/gestao-de-projeto-pmi-prof-dr-ricardo-abbud/
LOCATION:Remoto
END:VEVENT
BEGIN:VEVENT
DTSTART;TZID=America/Sao_Paulo:20230817T114500
DTEND;TZID=America/Sao_Paulo:20230817T130000
DTSTAMP:20260420T085702
CREATED:20230723T202846Z
LAST-MODIFIED:20230723T203328Z
UID:3389-1692272700-1692277200@poliretribua.org.br
SUMMARY:Mc Kinsey 2
DESCRIPTION:Como construir seu networking e buscar mentoria.Esse evento será no formato híbrido. Alunos na AEP e Palestrantes estarão remotos. \nOs alunos do programa PoliRetribua já tem um Mentor que o acompanha nessa jornada. O programa oferece a rede de contatos dos Mentores para auxiliar os alunos na busca dessa colocação profissional.  \nSerá servido lanche e refrigerante aos participantes.O registro prévio é obrigatório \n\n\n\n 
URL:https://poliretribua.org.br/event/mc-kinsey-2/
END:VEVENT
BEGIN:VEVENT
DTSTART;TZID=America/Sao_Paulo:20230823T080000
DTEND;TZID=America/Sao_Paulo:20230823T120000
DTSTAMP:20260420T085702
CREATED:20230614T203133Z
LAST-MODIFIED:20230810T144200Z
UID:3194-1692777600-1692792000@poliretribua.org.br
SUMMARY:Visita on-site Promon Eng
DESCRIPTION:Visita as instalações da Promon Engenharia. \nVocê sabe como funciona uma empresa de Engenharia? No dia 23/08 no período da manhã\, disponibilizaremos uma visita guiada\, na qual você terá a chance de conhecer nosso hub de negócios e ter uma demonstração na PromonLab\, nossa voltada a Engenharia e Gerenciamento digitais. \nRegistro obrigatório  \nhttps://forms.office.com/r/k2yEkg866Q
URL:https://poliretribua.org.br/event/eventos-do-segundo-semestre-hold/
END:VEVENT
BEGIN:VEVENT
DTSTART;TZID=America/Sao_Paulo:20230829T114500
DTEND;TZID=America/Sao_Paulo:20230829T130000
DTSTAMP:20260420T085702
CREATED:20230818T185940Z
LAST-MODIFIED:20230818T190135Z
UID:3560-1693309500-1693314000@poliretribua.org.br
SUMMARY:Organização de estudo e agenda
DESCRIPTION:As mentoras Beth e Marilda irão preparar uma dinâmica para que vocês se organizem nos estudos e tenham um bom desempenho na P1. Tragam suas agendas.
URL:https://poliretribua.org.br/event/organizacao-de-estudo-e-agenda/
END:VEVENT
BEGIN:VEVENT
DTSTART;TZID=America/Sao_Paulo:20231010T114500
DTEND;TZID=America/Sao_Paulo:20231010T124500
DTSTAMP:20260420T085702
CREATED:20231002T211606Z
LAST-MODIFIED:20231002T212309Z
UID:3761-1696938300-1696941900@poliretribua.org.br
SUMMARY:Matemática básica - Aula 1
DESCRIPTION:A AEP-PoliRetribua contratou a Fundação PoliSaber (proprietária do Cursinho da Poli) para ministrar o curso. Entendemos que os problemas de nossos alunos estão no conteúdo da matemática do ensino Médio\, resultado do estudo remoto durante a pandemia. Serão abordados os temas relevantes para que os alunos cumpram as disciplinas de Cálculo 1 e Álgebra Linear 1 sem dificuldades em 2024
URL:https://poliretribua.org.br/event/matematica-basica/
END:VEVENT
BEGIN:VEVENT
DTSTART;TZID=America/Sao_Paulo:20231017T114500
DTEND;TZID=America/Sao_Paulo:20231017T124500
DTSTAMP:20260420T085702
CREATED:20231002T212213Z
LAST-MODIFIED:20231002T212446Z
UID:3765-1697543100-1697546700@poliretribua.org.br
SUMMARY:Matemática básica aula 2
DESCRIPTION:A AEP-PoliRetribua contratou a Fundação PoliSaber (proprietária do Cursinho da Poli) para ministrar o curso. Entendemos que os problemas de nossos alunos estão no conteúdo da matemática do ensino Médio\, resultado do estudo remoto durante a pandemia. Serão abordados os temas relevantes para que os alunos cumpram as disciplinas de Cálculo 1 e Álgebra Linear 1 sem dificuldades em 2024
URL:https://poliretribua.org.br/event/matematica-basica-aula-2/
END:VEVENT
BEGIN:VEVENT
DTSTART;TZID=America/Sao_Paulo:20231019T114500
DTEND;TZID=America/Sao_Paulo:20231019T114500
DTSTAMP:20260420T085702
CREATED:20230803T001310Z
LAST-MODIFIED:20231009T013252Z
UID:3443-1697715900-1697715900@poliretribua.org.br
SUMMARY:Educação Midiática
DESCRIPTION:Educação Midiática é o conjunto de habilidades para acessar\, analisar\, criar e participar de maneira crítica do ambiente informacional e midiático em todos os seus formatos — dos impressos aos digitais (Instituto Palavra Aberta\, 2023). Ela proporciona recursos para o combate à desinformação e às notícias falsas (também conhecidas como Fake News)\, contribuindo para a formação plena do cidadão ativo. \n\n\n\nRenata Marè é Doutora em Engenharia de Computação pela Escola Politécnica da USP\, onde também atua como pesquisadora e docente convidada no programa de pós-graduação\, além do Instituto Mauá de Tecnologia (tema Cidades Inteligentes). Além disso\, é empresária do setor de tecnologia\, multiplicadora em Educação Midiática (certificada pelo Instituto Palavra Aberta) e voluntária no Poli Retribua.
URL:https://poliretribua.org.br/event/3443/
END:VEVENT
BEGIN:VEVENT
DTSTART;TZID=America/Sao_Paulo:20231020T153000
DTEND;TZID=America/Sao_Paulo:20231020T163000
DTSTAMP:20260420T085702
CREATED:20231020T183258Z
LAST-MODIFIED:20231020T183342Z
UID:4080-1697815800-1697819400@poliretribua.org.br
SUMMARY:Simulação de entrevista de emprego
DESCRIPTION:Na AEP com o mentor Newton Carlos Nikolaus
URL:https://poliretribua.org.br/event/simulacao-entrevista-de-emprego/
END:VEVENT
BEGIN:VEVENT
DTSTART;TZID=America/Sao_Paulo:20231024T114500
DTEND;TZID=America/Sao_Paulo:20231024T124500
DTSTAMP:20260420T085703
CREATED:20231002T212707Z
LAST-MODIFIED:20231017T192152Z
UID:3768-1698147900-1698151500@poliretribua.org.br
SUMMARY:Matemática básica - aula 3
DESCRIPTION:A AEP-PoliRetribua contratou a Fundação PoliSaber (proprietária do Cursinho da Poli) para ministrar o curso. Entendemos que os problemas de nossos alunos estão no conteúdo da matemática do ensino Médio\, resultado do estudo remoto durante a pandemia. Serão abordados os temas relevantes para que os alunos cumpram as disciplinas de Cálculo 1 e Álgebra Linear 1 sem dificuldades em 2024
URL:https://poliretribua.org.br/event/matematica-basica-aula-3/
END:VEVENT
BEGIN:VEVENT
DTSTART;TZID=America/Sao_Paulo:20231026T180000
DTEND;TZID=America/Sao_Paulo:20231026T190000
DTSTAMP:20260420T085703
CREATED:20231020T182421Z
LAST-MODIFIED:20231025T190755Z
UID:4071-1698343200-1698346800@poliretribua.org.br
SUMMARY:Bienal de Artes de SP (Remoto)
DESCRIPTION:Orientação artística – quinta-feira\, às 18h Remoto: A profa. Dra Anamélia Bueno fará uma breve exposição sobre arte moderna e contemporânea\, ressaltando os pontos importantes dessas manifestações. \n\n\n\nOrientação artística – Bienal de Arte de SPQuinta-feira\, 26 de outubro · 18:00 até 19:00Fuso horário: America/Sao_PauloComo participar do Google MeetLink da videochamada: https://meet.google.com/vwf-tydb-zywOu disque: ‪(BR) +55 11 3957-7958‬ PIN: ‪100 242 427‬#Outros números de telefone: https://tel.meet/vwf-tydb-zyw?pin=3008040157225
URL:https://poliretribua.org.br/event/bienal-de-artes-de-sp/
END:VEVENT
BEGIN:VEVENT
DTSTART;TZID=America/Sao_Paulo:20231028T140000
DTEND;TZID=America/Sao_Paulo:20231028T170000
DTSTAMP:20260420T085703
CREATED:20231020T182609Z
LAST-MODIFIED:20231020T182846Z
UID:4073-1698501600-1698512400@poliretribua.org.br
SUMMARY:Bienal de Artes de SP - Parque do Ibirapuera
DESCRIPTION:Sábado\, às 14h\, no Parque do Ibirapuera: A profa. Anamélia percorrerá as montagens mais relevantes e seu significado. Não haverá transporte da Poli. Os alunos deverão se dirigir à entrada da Bienal de Arte. O grupo começará a visita às 14h em ponto\, a partir da portaria principal. \n\n\n\nPS: A entrada é gratuita.
URL:https://poliretribua.org.br/event/4073/
END:VEVENT
BEGIN:VEVENT
DTSTART;TZID=America/Sao_Paulo:20231031T114500
DTEND;TZID=America/Sao_Paulo:20231031T124500
DTSTAMP:20260420T085703
CREATED:20231002T212932Z
LAST-MODIFIED:20231017T192230Z
UID:3770-1698752700-1698756300@poliretribua.org.br
SUMMARY:Matemática básica - aula 4
DESCRIPTION:A AEP-PoliRetribua contratou a Fundação PoliSaber (proprietária do Cursinho da Poli) para ministrar o curso. Entendemos que os problemas de nossos alunos estão no conteúdo da matemática do ensino Médio\, resultado do estudo remoto durante a pandemia. Serão abordados os temas relevantes para que os alunos cumpram as disciplinas de Cálculo 1 e Álgebra Linear 1 sem dificuldades em 2024
URL:https://poliretribua.org.br/event/matematica-basica-aula-4/
END:VEVENT
BEGIN:VEVENT
DTSTART;TZID=America/Sao_Paulo:20231114T114500
DTEND;TZID=America/Sao_Paulo:20231114T124500
DTSTAMP:20260420T085703
CREATED:20231002T143008Z
LAST-MODIFIED:20231012T202303Z
UID:3773-1699962300-1699965900@poliretribua.org.br
SUMMARY:Matemática básica - aula 5
DESCRIPTION:A AEP-PoliRetribua contratou a Fundação PoliSaber (proprietária do Cursinho da Poli) para ministrar o curso. Entendemos que os problemas de nossos alunos estão no conteúdo da matemática do ensino Médio\, resultado do estudo remoto durante a pandemia. Serão abordados os temas relevantes para que os alunos cumpram as disciplinas de Cálculo 1 e Álgebra Linear 1 sem dificuldades em 2024
URL:https://poliretribua.org.br/event/matematica-basica-aula-5/
END:VEVENT
BEGIN:VEVENT
DTSTART;TZID=America/Sao_Paulo:20231116T120000
DTEND;TZID=America/Sao_Paulo:20231116T133000
DTSTAMP:20260420T085703
CREATED:20231012T202449Z
LAST-MODIFIED:20231012T202451Z
UID:4002-1700136000-1700141400@poliretribua.org.br
SUMMARY:Tira dúvida de matemática
DESCRIPTION:
URL:https://poliretribua.org.br/event/tira-duvida-de-matematica/
END:VEVENT
BEGIN:VEVENT
DTSTART;TZID=America/Sao_Paulo:20231121T114500
DTEND;TZID=America/Sao_Paulo:20231121T124500
DTSTAMP:20260420T085703
CREATED:20231002T213618Z
LAST-MODIFIED:20231002T213619Z
UID:3775-1700567100-1700570700@poliretribua.org.br
SUMMARY:MATEMÁTICA BÁSICA - AULA 6
DESCRIPTION:A AEP-PoliRetribua contratou a Fundação PoliSaber (proprietária do Cursinho da Poli) para ministrar o curso. Entendemos que os problemas de nossos alunos estão no conteúdo da matemática do ensino Médio\, resultado do estudo remoto durante a pandemia. Serão abordados os temas relevantes para que os alunos cumpram as disciplinas de Cálculo 1 e Álgebra Linear 1 sem dificuldades em 2024
URL:https://poliretribua.org.br/event/matematica-basica-aula-6/
END:VEVENT
BEGIN:VEVENT
DTSTART;TZID=America/Sao_Paulo:20231123T114500
DTEND;TZID=America/Sao_Paulo:20231123T124500
DTSTAMP:20260420T085703
CREATED:20231010T005104Z
LAST-MODIFIED:20231010T005244Z
UID:3939-1700739900-1700743500@poliretribua.org.br
SUMMARY:McKinsey: Habilidades de apresentação e como ter uma presença mais forte 
DESCRIPTION:
URL:https://poliretribua.org.br/event/mckinsey-habilidades-de-apresentacao-e-como-ter-uma-presenca-mais-forte/
END:VEVENT
BEGIN:VEVENT
DTSTART;TZID=America/Sao_Paulo:20231130T190000
DTEND;TZID=America/Sao_Paulo:20231130T213000
DTSTAMP:20260420T085703
CREATED:20231017T192818Z
LAST-MODIFIED:20231017T193516Z
UID:4038-1701370800-1701379800@poliretribua.org.br
SUMMARY:Pizza de confraternização - poliretribua
DESCRIPTION:Tradicional Pizza de confraternização no Sweden
URL:https://poliretribua.org.br/event/pizza-de-confraternizacao-poliretribua/
END:VEVENT
BEGIN:VEVENT
DTSTART;TZID=America/Sao_Paulo:20240220T000000
DTEND;TZID=America/Sao_Paulo:20240220T235959
DTSTAMP:20260420T085703
CREATED:20240126T171344Z
LAST-MODIFIED:20240126T212750Z
UID:4438-1708387200-1708473599@poliretribua.org.br
SUMMARY:Início do cadastro no Poliretribua
DESCRIPTION:Inscrições para Mentoria e Bolsa para os alunos do primeiro ano e veteranos. O programa iniciará apenas com Mentoria. As bolsas serão definidas no final de abril e começo de maio quando as avaliações do SAS-USP estiverem disponíveis.
URL:https://poliretribua.org.br/event/inicio-do-cadastro-no-poliretribua/
END:VEVENT
BEGIN:VEVENT
DTSTART;TZID=America/Sao_Paulo:20240328T190000
DTEND;TZID=America/Sao_Paulo:20240328T200000
DTSTAMP:20260420T085703
CREATED:20231002T213729Z
LAST-MODIFIED:20240319T013842Z
UID:3777-1711652400-1711656000@poliretribua.org.br
SUMMARY:Matemática Básica - Aula 7 (Início 18h)
DESCRIPTION:A AEP-PoliRetribua contratou a Fundação PoliSaber (proprietária do Cursinho da Poli) para ministrar o curso. Entendemos que os problemas de nossos alunos estão no conteúdo da matemática do ensino Médio\, resultado do estudo remoto durante a pandemia. Serão abordados os temas relevantes para que os alunos cumpram as disciplinas de Cálculo 1 e Álgebra Linear 1 sem dificuldades em 2024
URL:https://poliretribua.org.br/event/matematica-basica-aula-7/
END:VEVENT
BEGIN:VEVENT
DTSTART;TZID=America/Sao_Paulo:20240402T190000
DTEND;TZID=America/Sao_Paulo:20240402T200000
DTSTAMP:20260420T085703
CREATED:20231121T134228Z
LAST-MODIFIED:20240319T013825Z
UID:4201-1712084400-1712088000@poliretribua.org.br
SUMMARY:Matemática Básica - Aula 8 (Início 18h)
DESCRIPTION:A AEP-PoliRetribua contratou a Fundação PoliSaber (proprietária do Cursinho da Poli) para ministrar o curso. Entendemos que os problemas de nossos alunos estão no conteúdo da matemática do ensino Médio\, resultado do estudo remoto durante a pandemia. Serão abordados os temas relevantes para que os alunos cumpram as disciplinas de Cálculo 1 e Álgebra Linear 1 sem dificuldades em 2024
URL:https://poliretribua.org.br/event/4201/
END:VEVENT
BEGIN:VEVENT
DTSTART;TZID=America/Sao_Paulo:20240404T190000
DTEND;TZID=America/Sao_Paulo:20240404T200000
DTSTAMP:20260420T085703
CREATED:20231121T134535Z
LAST-MODIFIED:20240319T013756Z
UID:4204-1712257200-1712260800@poliretribua.org.br
SUMMARY:Matemática Básica - Aula 9 (Início 18h)
DESCRIPTION:A AEP-PoliRetribua contratou a Fundação PoliSaber (proprietária do Cursinho da Poli) para ministrar o curso. Entendemos que os problemas de nossos alunos estão no conteúdo da matemática do ensino Médio\, resultado do estudo remoto durante a pandemia. Serão abordados os temas relevantes para que os alunos cumpram as disciplinas de Cálculo 1 e Álgebra Linear 1 sem dificuldades em 2024
URL:https://poliretribua.org.br/event/matematica-basica-aula-9/
END:VEVENT
BEGIN:VEVENT
DTSTART;TZID=America/Sao_Paulo:20240606T114500
DTEND;TZID=America/Sao_Paulo:20240606T124500
DTSTAMP:20260420T085703
CREATED:20240516T163900Z
LAST-MODIFIED:20240516T164248Z
UID:4645-1717674300-1717677900@poliretribua.org.br
SUMMARY:Inclusão\, Diversidade & Sucesso Acadêmico
DESCRIPTION:Ministrada pelo Prof Dr Alessandro de Oliveira Santos – Psicologia USPEstamos promovendo um encontro muito importante para todos. Palestra fechada para alunos do PoliRetribua e convidados.Será uma palestra com foco nos aspectos relacionados ao Preconceito\, Discriminação Étnico-Racial e seus impactos no ambiente acadêmico. Essas questões representam uma das principais causas de exclusão de alunos durante o primeiro ano\, levando à desistência do curso. Acreditem supera até Cálculo e Algelin.
URL:https://poliretribua.org.br/event/inclusao-diversidade-sucesso-academico/
END:VEVENT
BEGIN:VEVENT
DTSTART;TZID=America/Sao_Paulo:20250430T190000
DTEND;TZID=America/Sao_Paulo:20250430T193000
DTSTAMP:20260420T085703
CREATED:20251011T185555Z
LAST-MODIFIED:20251011T185559Z
UID:5049-1746039600-1746041400@poliretribua.org.br
SUMMARY:Apresentação de Resultados 1o tri 2025
DESCRIPTION:Apresentação de resultados do 1o trimestre de 2025 do programa aos mentores e demais interessados da Poli Alumni
URL:https://poliretribua.org.br/event/apresentacao-de-resultados-1o-tri-2025/
END:VEVENT
END:VCALENDAR