BEGIN:VCALENDAR
VERSION:2.0
PRODID:-//PoliRetribua - ECPv6.15.20//NONSGML v1.0//EN
CALSCALE:GREGORIAN
METHOD:PUBLISH
X-ORIGINAL-URL:https://poliretribua.org.br
X-WR-CALDESC:Eventos para PoliRetribua
REFRESH-INTERVAL;VALUE=DURATION:PT1H
X-Robots-Tag:noindex
X-PUBLISHED-TTL:PT1H
BEGIN:VTIMEZONE
TZID:America/Sao_Paulo
BEGIN:STANDARD
TZOFFSETFROM:-0300
TZOFFSETTO:-0300
TZNAME:-03
DTSTART:20220101T000000
END:STANDARD
END:VTIMEZONE
BEGIN:VEVENT
DTSTART;TZID=America/Sao_Paulo:20230302T180000
DTEND;TZID=America/Sao_Paulo:20230302T190000
DTSTAMP:20260420T101557
CREATED:20230218T230508Z
LAST-MODIFIED:20230301T125808Z
UID:2397-1677780000-1677783600@poliretribua.org.br
SUMMARY:Treinamento - Pertencimento e Comportamento de Mentor - Mentorando
DESCRIPTION:
URL:https://poliretribua.org.br/event/treinamento-pertencimento-e-comportamento-de-mentor-mentorando/
END:VEVENT
BEGIN:VEVENT
DTSTART;TZID=America/Sao_Paulo:20230306T193000
DTEND;TZID=America/Sao_Paulo:20230306T203000
DTSTAMP:20260420T101557
CREATED:20230218T230652Z
LAST-MODIFIED:20230227T184811Z
UID:2399-1678131000-1678134600@poliretribua.org.br
SUMMARY:Treinamento sobre Pertencimento e Comportamento Mentor - Mentorando (data alternativa)
DESCRIPTION:
URL:https://poliretribua.org.br/event/treinamento-sobre-pertencimento-e-comportamento-mentor-mentorando-data-alternativa/
END:VEVENT
BEGIN:VEVENT
DTSTART;TZID=America/Sao_Paulo:20230307T080000
DTEND;TZID=America/Sao_Paulo:20230311T170000
DTSTAMP:20260420T101557
CREATED:20230219T152707Z
LAST-MODIFIED:20230219T152707Z
UID:2540-1678176000-1678554000@poliretribua.org.br
SUMMARY:Alocação dos Novos Mentores as Cadeiras
DESCRIPTION:
URL:https://poliretribua.org.br/event/alocacao-dos-novos-mentores-as-cadeiras/
END:VEVENT
BEGIN:VEVENT
DTSTART;VALUE=DATE:20230310
DTEND;VALUE=DATE:20230321
DTSTAMP:20260420T101557
CREATED:20230309T131601Z
LAST-MODIFIED:20230309T131735Z
UID:2774-1678406400-1679356799@poliretribua.org.br
SUMMARY:Início as inscrições ao Programa Mentoria e Bolsas
DESCRIPTION:
URL:https://poliretribua.org.br/event/inicio-as-inscricoes-ao-programa-mentoria-e-bolsas/
ORGANIZER;CN="PoliRetribua":MAILTO:aep@politecnicos.org.br
END:VEVENT
BEGIN:VEVENT
DTSTART;TZID=America/Sao_Paulo:20230313T160000
DTEND;TZID=America/Sao_Paulo:20230313T173000
DTSTAMP:20260420T101557
CREATED:20230219T014911Z
LAST-MODIFIED:20230219T214739Z
UID:2437-1678723200-1678728600@poliretribua.org.br
SUMMARY:Apresentação do PoliRetribua aos novos alunos - Semana de recepção dos calouros
DESCRIPTION:Lino e Dario farão a apresentação aos novos alunos após a aula Magna.
URL:https://poliretribua.org.br/event/apresentacao-do-poliretribua-aos-novos-alunos/
END:VEVENT
END:VCALENDAR