BEGIN:VCALENDAR
VERSION:2.0
PRODID:-//PoliRetribua - ECPv6.15.20//NONSGML v1.0//EN
CALSCALE:GREGORIAN
METHOD:PUBLISH
X-ORIGINAL-URL:https://poliretribua.org.br
X-WR-CALDESC:Eventos para PoliRetribua
REFRESH-INTERVAL;VALUE=DURATION:PT1H
X-Robots-Tag:noindex
X-PUBLISHED-TTL:PT1H
BEGIN:VTIMEZONE
TZID:America/Sao_Paulo
BEGIN:STANDARD
TZOFFSETFROM:-0300
TZOFFSETTO:-0300
TZNAME:-03
DTSTART:20220101T000000
END:STANDARD
END:VTIMEZONE
BEGIN:VEVENT
DTSTART;TZID=America/Sao_Paulo:20231114T114500
DTEND;TZID=America/Sao_Paulo:20231114T124500
DTSTAMP:20260424T072934
CREATED:20231002T143008Z
LAST-MODIFIED:20231012T202303Z
UID:3773-1699962300-1699965900@poliretribua.org.br
SUMMARY:Matemática básica - aula 5
DESCRIPTION:A AEP-PoliRetribua contratou a Fundação PoliSaber (proprietária do Cursinho da Poli) para ministrar o curso. Entendemos que os problemas de nossos alunos estão no conteúdo da matemática do ensino Médio\, resultado do estudo remoto durante a pandemia. Serão abordados os temas relevantes para que os alunos cumpram as disciplinas de Cálculo 1 e Álgebra Linear 1 sem dificuldades em 2024
URL:https://poliretribua.org.br/event/matematica-basica-aula-5/
END:VEVENT
BEGIN:VEVENT
DTSTART;TZID=America/Sao_Paulo:20231116T120000
DTEND;TZID=America/Sao_Paulo:20231116T133000
DTSTAMP:20260424T072934
CREATED:20231012T202449Z
LAST-MODIFIED:20231012T202451Z
UID:4002-1700136000-1700141400@poliretribua.org.br
SUMMARY:Tira dúvida de matemática
DESCRIPTION:
URL:https://poliretribua.org.br/event/tira-duvida-de-matematica/
END:VEVENT
BEGIN:VEVENT
DTSTART;TZID=America/Sao_Paulo:20231121T114500
DTEND;TZID=America/Sao_Paulo:20231121T124500
DTSTAMP:20260424T072934
CREATED:20231002T213618Z
LAST-MODIFIED:20231002T213619Z
UID:3775-1700567100-1700570700@poliretribua.org.br
SUMMARY:MATEMÁTICA BÁSICA - AULA 6
DESCRIPTION:A AEP-PoliRetribua contratou a Fundação PoliSaber (proprietária do Cursinho da Poli) para ministrar o curso. Entendemos que os problemas de nossos alunos estão no conteúdo da matemática do ensino Médio\, resultado do estudo remoto durante a pandemia. Serão abordados os temas relevantes para que os alunos cumpram as disciplinas de Cálculo 1 e Álgebra Linear 1 sem dificuldades em 2024
URL:https://poliretribua.org.br/event/matematica-basica-aula-6/
END:VEVENT
BEGIN:VEVENT
DTSTART;TZID=America/Sao_Paulo:20231123T114500
DTEND;TZID=America/Sao_Paulo:20231123T124500
DTSTAMP:20260424T072934
CREATED:20231010T005104Z
LAST-MODIFIED:20231010T005244Z
UID:3939-1700739900-1700743500@poliretribua.org.br
SUMMARY:McKinsey: Habilidades de apresentação e como ter uma presença mais forte 
DESCRIPTION:
URL:https://poliretribua.org.br/event/mckinsey-habilidades-de-apresentacao-e-como-ter-uma-presenca-mais-forte/
END:VEVENT
BEGIN:VEVENT
DTSTART;TZID=America/Sao_Paulo:20231130T190000
DTEND;TZID=America/Sao_Paulo:20231130T213000
DTSTAMP:20260424T072934
CREATED:20231017T192818Z
LAST-MODIFIED:20231017T193516Z
UID:4038-1701370800-1701379800@poliretribua.org.br
SUMMARY:Pizza de confraternização - poliretribua
DESCRIPTION:Tradicional Pizza de confraternização no Sweden
URL:https://poliretribua.org.br/event/pizza-de-confraternizacao-poliretribua/
END:VEVENT
END:VCALENDAR