BEGIN:VCALENDAR
VERSION:2.0
PRODID:-//PoliRetribua - ECPv6.15.20//NONSGML v1.0//EN
CALSCALE:GREGORIAN
METHOD:PUBLISH
X-WR-CALNAME:PoliRetribua
X-ORIGINAL-URL:https://poliretribua.org.br
X-WR-CALDESC:Eventos para PoliRetribua
REFRESH-INTERVAL;VALUE=DURATION:PT1H
X-Robots-Tag:noindex
X-PUBLISHED-TTL:PT1H
BEGIN:VTIMEZONE
TZID:America/Sao_Paulo
BEGIN:STANDARD
TZOFFSETFROM:-0300
TZOFFSETTO:-0300
TZNAME:-03
DTSTART:20230101T000000
END:STANDARD
END:VTIMEZONE
BEGIN:VEVENT
DTSTART;TZID=America/Sao_Paulo:20240606T114500
DTEND;TZID=America/Sao_Paulo:20240606T124500
DTSTAMP:20260424T221538
CREATED:20240516T163900Z
LAST-MODIFIED:20240516T164248Z
UID:4645-1717674300-1717677900@poliretribua.org.br
SUMMARY:Inclusão\, Diversidade & Sucesso Acadêmico
DESCRIPTION:Ministrada pelo Prof Dr Alessandro de Oliveira Santos – Psicologia USPEstamos promovendo um encontro muito importante para todos. Palestra fechada para alunos do PoliRetribua e convidados.Será uma palestra com foco nos aspectos relacionados ao Preconceito\, Discriminação Étnico-Racial e seus impactos no ambiente acadêmico. Essas questões representam uma das principais causas de exclusão de alunos durante o primeiro ano\, levando à desistência do curso. Acreditem supera até Cálculo e Algelin.
URL:https://poliretribua.org.br/event/inclusao-diversidade-sucesso-academico/
END:VEVENT
END:VCALENDAR